Workbook

Sheet Carga
A2: PLANILLA CONTROL DE CARGA
A4: PRODUCTOR: | D4: Food Partners Patagonia │Argentina | F4: PRECINTO AFIP: | G4: DGA-MS-A-ABU29977 | I4: FECHA: | J4: 45254
A5: PUERTO DESTINO: | D5: NEW YORK | EEUU | F5: PREC. SENASA: | G5: OF 3815 SERIE A 013531 | I5: HORA INICIO: | J5: 9:19HS
A6: CONTENEDOR: | D6: MNBU 060 405 - 1 | F6: TERMOGRAFO: | G6: 230743178H | I6: HORA FINAL: | J6: 10:05HS
A7: BOOKING: | D7: 233194467 | F7: CONTENEDOR: | G7: LIMPIO | I7: INSPECTOR/ES:
A8: BUQUE MERCANTE: | D8: AS STINE | F8: SIM: | G8: 23 047 EC01_002956R | I8: Sena Eduardo|Bruno Painemal
A10: INFORMACION DE LA CARGA
A11: FILA | B11: Nº DE CAJAS | C11: CALIBRE Y PRESENTACION | E11: ANOTACIONES | F11: LOTES
A12: 1 | B12: 26 | C12: 30/50 ppl Kirkland PND FC | E12: Fotografia | F12: 40551123270 | G12: 40558423262
A13: 2 | B13: 43 | E13: Fotografia | F13: 40558423262 | G13: 40551123270
A14: 3 | B14: 43 | E14: Fotografía | F14: 40551123270 | G14: 40551123265 | H14: 40558423271
A15: 4 | B15: 43 | E15: Fotografía | F15: 40551123265 | G15: 40558423262 | H15: 40558423259
A16: 5 | B16: 43 | E16: Fotografía | F16: 40557023265
A17: 6 | B17: 43 | E17: Fotografía | F17: 40557023261 | G17: 40558423259
A18: 7 | B18: 43 | E18: Fotografía | F18: 40551123265 | G18: 40551123262
A19: 8 | B19: 43 | E19: Fotografía | F19: 40551123256 | G19: 40551123270
A20: 9 | B20: 43 | E20: Fotografía | F20: 40558423271 | G20: 40557023269
A21: 10 | B21: 43 | E21: Fotografía | F21: 40551123265
A22: 11 | B22: 43 | E22: Fotografía | F22: 40551123262
A23: 12 | B23: 43 | E23: Fotografía | F23: 40551123262
A24: 13 | B24: 43 | E24: Fotografía | F24: 40558423262
A25: 14 | B25: 43 | E25: Fotografía | F25: 40558423259 | G25: 40557023261
A26: 15 | B26: 43 | E26: Fotografía | F26: 40551123265
A27: 16 | B27: 43 | E27: Fotografía | F27: 40551123270 | G27: 40558423259
A28: 17 | B28: 43 | E28: Fotografía | F28: 40551123270
A29: 18 | B29: 43 | E29: Fotografía | F29: 40551123265 | G29: 40551123262
A30: 19 | B30: 43 | E30: Fotografía | F30: 40557023261 | G30: 40558423259
A31: 20 | B31: 43 | E31: Fotografía | F31: 40557023261 | G31: 40551123262 | H31: 40558423262
A32: 21 | B32: 43 | E32: Fotografía | F32: 40551123262
A33: 22 | B33: 43 | E33: Fotografía | F33: 40551123262 | G33: 40557023261 | H33: 40558423259
A34: 23 | B34: 43 | E34: Fotografía - Termógrafo | F34: 40551123270
A36: ÍTEM | C36: PRODUCTO | E36: PRESENTACIÓN | F36: CALIBRE | G36: MARCA | H36: N° CAJAS | I36: PESO NETO | J36: PESO BRUTO
A37: 1 | C37: PND FC | E37: 16 X 2 Lb | F37: 30/50 ppl | G37: KIRKLAND | H37: 972 | I37: 14121.22 | J37: 18274
A39: TOTAL | H39: =SUM(H37:H38) -> 972 | I39: =SUM(I37:I38) -> 14121.22 | J39: =SUM(J37:J38) -> 18274
A41: OBSERVACIONES:
A42: > CONTENEDOR KIRKLAND Nº 93 - 2023
A43: > El contenedor se encontraba limpio.
A44: > La temperatura correcta.
A45: > La fecha de master coincidieron con las bolsas.
A48: En la carga:
...

Sheet Producto
A1: INFORMACION DE LOS PRODUCTOS
A2: PRODUCTO | B2: LOTE | C2: FECHA DE CONGELACIÓN | D2: T (°C) | E2: PESO BRUTO | H2: OBSERVACIONES
A3: 30/50 ppl Kirkland PND FC | B3: 40551123270 | C3: 45196 | D3: -23.3 | E3: 1046 | F3: 1054 | G3: 1046
B4: 40558423262 | C4: 45188 | D4: -24.8 | E4: 1051 | F4: 1045 | G4: 1053
B5: 40558423271 | C5: 45197 | D5: -27.2 | E5: 1049 | F5: 1054 | G5: 1050
B6: 40551123265 | C6: 45191 | D6: -25.5 | E6: 1048 | F6: 1053 | G6: 1052
B7: 40551123262 | C7: 45188 | D7: -25.1 | E7: 1060 | F7: 1053 | G7: 1061
B8: 40558423259 | C8: 45185 | D8: -23.1 | E8: 1060 | F8: 1062 | G8: 1060
B9: 40557023267 | C9: 45193 | D9: -22 | E9: 1059 | F9: 1059 | G9: 1058
B10: 40557023261 | C10: 45187 | D10: -19.1 | E10: 1056 | F10: 1062 | G10: 1058
B11: 40551123270 | C11: 45196 | D11: -23.6 | E11: 1061 | F11: 1061 | G11: 1063
B12: 40551123262 | C12: 45188 | D12: -24.1 | E12: 1052 | F12: 1054 | G12: 1052
A15: PRODUCTOS | D15: T (°C) | F15: PESOS BRUTO (g) | H15: N° TOTAL DE BOLSAS
D16: MEDIA | E16: MINIMO | F16: MAXIMO | G16: PROMEDIO
A17: =A3 -> 30/50 ppl Kirkland PND FC | D17: =AVERAGE(D3:D14) -> -23.78 | E17: =MIN(E3:G14) -> 1045 | F17: =MAX(E3:H14) -> 1063 | G17: =AVERAGE(E3:G14) -> 1055.0667 | H17: =COUNT(E3:G14) -> 30
A19: T (°C) MEDIA | D19: =AVERAGE(D3:D14) -> -23.78 | E19: T (°C) RANGO | H19: =CONCATENATE(Producto!C23," a ",Producto!C24) -> -19.1 a -27.2
A23: Maximo | C23: =MAX(Producto!D3:D14) -> -19.1
A24: Minimo | C24: =MIN(Producto!D3:D14) -> -27.2 | F24: 6x2 | G24: 12x1
A25: Promedio | C25: =AVERAGE(D3:D14) -> -23.78 | E25: max | F25: =MAX(E3:G10) -> 1062 | G25: =MAX(E11:G15) -> 1063
E26: min | F26: =MIN(E3:G10) -> 1045 | G26: =MIN(E11:G15) -> 1052
E27: Promedio | F27: =AVERAGE(E3:G10) -> 1054.5417 | G27: =AVERAGE(E11:G15) -> 1057.1667

Sheet Packing List
A1: Packing List (Provisorio) - KIRKLAND - FCL N° 93 - 2023
A3: Lote | B3: Código | C3: Empaque | D3: Cajas | E3: Bruto | F3: Neto | G3: Fecha Prod
A4: 008423 - Planta Pto Madryn PM-7023261 | B4: LGPDIQFC3050LB | C4: 16x0,908 | D4: 14 | E4: 261.8 | F4: 203.39 | G4: 45187
A5: 008423 - Planta Pto Madryn PM-7023261 | B5: LGPDIQFC3050LB | C5: 16x0,908 | D5: 1 | E5: 18.7 | F5: 14.53 | G5: 45187
A6: 008434 - Planta Pto Madryn PM-7023267 | B6: LGPDIQFC3050LB | C6: 16x0,908 | D6: 28 | E6: 523.6 | F6: 406.78 | G6: 45193
A7: 008544 - Planta Pto Madryn RW-7023261 | B7: LGPDIQFC3050LB | C7: 16x0,908 | D7: 1 | E7: 18.7 | F7: 14.53 | G7: 45187
A8: 008538 - Planta Pto Madryn RW-8423259-X | B8: LGPDIQFC3050LB-X | C8: 16x0,908 | D8: 4 | E8: 74.8 | F8: 58.11 | G8: 45185
A9: 008543 - Planta Pto Madryn RW-7023261-X | B9: LGPDIQFC3050LB-X | C9: 16x0,908 | D9: 2 | E9: 37.4 | F9: 29.06 | G9: 45187
A10: 008423 - Planta Pto Madryn PM-7023261 | B10: LGPDIQFC3050LB | C10: 16x0,908 | D10: 26 | E10: 486.2 | F10: 377.73 | G10: 45187
A11: 008543 - Planta Pto Madryn RW-7023261-X | B11: LGPDIQFC3050LB-X | C11: 16x0,908 | D11: 12 | E11: 224.4 | F11: 174.34 | G11: 45187
A12: 008543 - Planta Pto Madryn RW-7023261-X | B12: LGPDIQFC3050LB-X | C12: 16x0,908 | D12: 12 | E12: 224.4 | F12: 174.34 | G12: 45187
A13: 008495 - Planta Pto Madryn RW-1123262-X | B13: LGPDIQFC3050LB-X | C13: 16x0,908 | D13: 32 | E13: 598.4 | F13: 464.9 | G13: 45188
A14: 008424 - Planta Pto Madryn PM-1123262 | B14: LGPDIQFC3050LB | C14: 16x0,908 | D14: 10 | E14: 187 | F14: 145.28 | G14: 45188
A15: 008495 - Planta Pto Madryn RW-1123262-X | B15: LGPDIQFC3050LB-X | C15: 16x0,908 | D15: 42 | E15: 785.4 | F15: 610.18 | G15: 45188
... A58: 008513 - Planta Pto Madryn RW-1123270-X | B58: LGPDIQFC3050LB-X | C58: 16x0,908 | D58: 18 | E58: 336.6 | F58: 261.5 | G58: 45196
A59: Total | D59: 972 | F59: 14121.22
